BEGIN:VCALENDAR
VERSION:2.0
PRODID:-//Neshama - ECPv6.15.20//NONSGML v1.0//EN
CALSCALE:GREGORIAN
METHOD:PUBLISH
X-ORIGINAL-URL:https://neshamasings.com
X-WR-CALDESC:Events for Neshama
REFRESH-INTERVAL;VALUE=DURATION:PT1H
X-Robots-Tag:noindex
X-PUBLISHED-TTL:PT1H
BEGIN:VTIMEZONE
TZID:America/Chicago
BEGIN:DAYLIGHT
TZOFFSETFROM:-0600
TZOFFSETTO:-0500
TZNAME:CDT
DTSTART:20170312T080000
END:DAYLIGHT
BEGIN:STANDARD
TZOFFSETFROM:-0500
TZOFFSETTO:-0600
TZNAME:CST
DTSTART:20171105T070000
END:STANDARD
BEGIN:DAYLIGHT
TZOFFSETFROM:-0600
TZOFFSETTO:-0500
TZNAME:CDT
DTSTART:20180311T080000
END:DAYLIGHT
BEGIN:STANDARD
TZOFFSETFROM:-0500
TZOFFSETTO:-0600
TZNAME:CST
DTSTART:20181104T070000
END:STANDARD
BEGIN:DAYLIGHT
TZOFFSETFROM:-0600
TZOFFSETTO:-0500
TZNAME:CDT
DTSTART:20190310T080000
END:DAYLIGHT
BEGIN:STANDARD
TZOFFSETFROM:-0500
TZOFFSETTO:-0600
TZNAME:CST
DTSTART:20191103T070000
END:STANDARD
BEGIN:DAYLIGHT
TZOFFSETFROM:-0600
TZOFFSETTO:-0500
TZNAME:CDT
DTSTART:20200308T080000
END:DAYLIGHT
BEGIN:STANDARD
TZOFFSETFROM:-0500
TZOFFSETTO:-0600
TZNAME:CST
DTSTART:20201101T070000
END:STANDARD
END:VTIMEZONE
BEGIN:VEVENT
DTSTART;TZID=America/Chicago:20190724T230000
DTEND;TZID=America/Chicago:20190725T020000
DTSTAMP:20260423T162849
CREATED:20190724T182629Z
LAST-MODIFIED:20190724T182629Z
UID:360-1564009200-1564020000@neshamasings.com
SUMMARY:Neshama Featured at Butter N Jam Vibe Sessions
DESCRIPTION:Wednesday nights at Dozen Street are known for bringing “The Vibe”! Hosted by CJ Edwards (of CJ Edwards & The Funk Fellowship)\, Butter N Jam Vibe Sessions feature a rotating cast of characters that often include voices you know and love as well as those who are new on the scene. They are backed by uber talented house band\, 12th & Chicon. \nOn Wednesday\, July 24th\, let’s welcome and celebrate a Dozen Street regular–Neshama–as she returns to the stage after taking a little “maternity leave” hiatus. She’s sure to remind you of what you’ve missed while she was away! Show starts at 11PM. After her feature\, stay for the freestyle awesomeness that occurs.
URL:https://neshamasings.com/energyexchanges/neshama-butter-n-jam/
LOCATION:Dozen Street\, 1808 E 12th St\, Austin\, TX\, 78702\, United States
CATEGORIES:live music
ATTACH;FMTTYPE=image/jpeg:https://neshamasings.com/wp-content/uploads/2019/07/DozenStreet72419-e1563992720828.jpg
END:VEVENT
BEGIN:VEVENT
DTSTART;TZID=America/Chicago:20190320T200000
DTEND;TZID=America/Chicago:20190321T000000
DTSTAMP:20260423T162849
CREATED:20190302T015550Z
LAST-MODIFIED:20190629T005850Z
UID:354-1553112000-1553126400@neshamasings.com
SUMMARY:Goldie Pipes' Juke Joint Revue
DESCRIPTION:In another edition of this monthly spotlight of Austin’s jazz\, blues\, and soul scene\, Neshama is taking the stage again at The Sahara Lounge. She is joined this night by belting blues artist Billie B\, the funky\, soulful sounds of PhonSoul & The Oligarchs\, and the legendary voice of Goldie Pipes himself backed by the Taysha Blues Band. \n**Note: This will be the last opportunity to exchange energy with Neshama until Summer.
URL:https://neshamasings.com/energyexchanges/goldie-pipes-juke-joint-revue/
LOCATION:The Sahara Lounge\, 1413 Webberville Rd\, Austin\, TX\, 78721\, United States
CATEGORIES:live music
ATTACH;FMTTYPE=image/jpeg:https://neshamasings.com/wp-content/uploads/2019/06/Goldie-Pipes-Juke-Joint-Revue-Made-with-PosterMyWall.jpg
END:VEVENT
BEGIN:VEVENT
DTSTART;TZID=America/Chicago:20190217T150000
DTEND;TZID=America/Chicago:20190217T180000
DTSTAMP:20260423T162849
CREATED:20190117T220350Z
LAST-MODIFIED:20190211T191738Z
UID:331-1550415600-1550426400@neshamasings.com
SUMMARY:Sunday Fun Day at Half Step with Neshama
DESCRIPTION:Come have some fun with us as we take the outdoor stage at Half Step! Enjoy an afternoon of great cocktails from the outdoor bar\, cool people\, and hot sounds from Neshama and her crew. No cover. \n**Edit: The party may be moved inside due to the cold weather.** \nHalf Step is located on the hip strip of Rainey Street right next to some amazing food trucks to crush those cravings!
URL:https://neshamasings.com/energyexchanges/sunday-fun-day-at-half-step-with-neshama/
LOCATION:Half Step\, 75 1/2 Rainey St\, Austin\, TX\, 78701\, United States
CATEGORIES:live music
ATTACH;FMTTYPE=image/jpeg:https://neshamasings.com/wp-content/uploads/2019/01/halfstepoutside.jpg
END:VEVENT
BEGIN:VEVENT
DTSTART;TZID=America/Chicago:20190208T193000
DTEND;TZID=America/Chicago:20190208T203000
DTSTAMP:20260423T162849
CREATED:20190117T215423Z
LAST-MODIFIED:20190117T215423Z
UID:328-1549654200-1549657800@neshamasings.com
SUMMARY:Neshama at The Sahara Lounge
DESCRIPTION:The magic is happening on the Eastside again as Neshama and her crew takes the stage for an hour of creative exchange! Come experience live music vibes\, then stick around for the party after. DJ Shani and others will be spinning tunes so you can dance the night away with their annual “United Vol 4: A Black History Month Boogie“! \nThe Sahara Lounge is an Eastside jewel that has music 6 nights a week\, often featuring several bands in one lineup. Enjoy a full bar\, billiards\, and a fire pit out back.
URL:https://neshamasings.com/energyexchanges/neshama-at-the-sahara-lounge/
LOCATION:The Sahara Lounge\, 1413 Webberville Rd\, Austin\, TX\, 78721\, United States
CATEGORIES:live music
ATTACH;FMTTYPE=image/jpeg:https://neshamasings.com/wp-content/uploads/2019/01/SaharaLoungeStage.jpg
END:VEVENT
BEGIN:VEVENT
DTSTART;TZID=America/Chicago:20190121T180000
DTEND;TZID=America/Chicago:20190121T190000
DTSTAMP:20260423T162849
CREATED:20190121T024344Z
LAST-MODIFIED:20190121T024344Z
UID:335-1548093600-1548097200@neshamasings.com
SUMMARY:Televised Martin Luther King\, Jr. Celebration
DESCRIPTION:Neshama will be joining vocal powerhouse Toni Ringgold\, along with Central Texas vocalists Carla Iris and Tammara Champion\, for a televised performance of Nina Simone’s “Four Women”. This stellar ensemble will be backed by the soulful grooves of Distinguished Sounds for a city-wide MLK Celebration taking place at the Waco Suspension Bridge.
URL:https://neshamasings.com/energyexchanges/televised-martin-luther-king-jr-celebration/
LOCATION:Waco Suspension Bridge\, Waco\, TX
CATEGORIES:live music
ATTACH;FMTTYPE=image/png:https://neshamasings.com/wp-content/uploads/2019/01/mlk-rally-photo.png
END:VEVENT
BEGIN:VEVENT
DTSTART;TZID=America/Chicago:20190116T223000
DTEND;TZID=America/Chicago:20190116T233000
DTSTAMP:20260423T162849
CREATED:20190103T203557Z
LAST-MODIFIED:20190103T203817Z
UID:321-1547677800-1547681400@neshamasings.com
SUMMARY:Neshama at The Sahara Lounge
DESCRIPTION:Come be a part of the magic of Austin’s Eastside as Neshama closes an evening of unforgettable sounds with an hour of soulful energy exchange. (Project S.N.A.R.E. and Datri Bean precede her). \nThis hidden gem\, The Sahara Lounge\, has music 6 nights a week\, often featuring several bands in one lineup. Enjoy a full bar\, billiards\, and a fire pit out back.
URL:https://neshamasings.com/energyexchanges/neshama-sahara-lounge-jan16/
LOCATION:The Sahara Lounge\, 1413 Webberville Rd\, Austin\, TX\, 78721\, United States
CATEGORIES:live music
END:VEVENT
BEGIN:VEVENT
DTSTART;TZID=America/Chicago:20181012T220000
DTEND;TZID=America/Chicago:20181013T010000
DTSTAMP:20260423T162849
CREATED:20181108T222514Z
LAST-MODIFIED:20190103T211627Z
UID:202-1539381600-1539392400@neshamasings.com
SUMMARY:ATX Juke Joint Revue
DESCRIPTION:This second installment of the ATX Juke Joint Revue will highlight the sounds of classic jazz and blues music. The lineup will feature blues guitarist/singer Billy Bowers\, jazz fusion artist Neshama\, and blues/soul/rock act Goldie Pipes & the Taysha Blues Band.
URL:https://neshamasings.com/energyexchanges/atx-juke-joint-revue2/
LOCATION:The Townsend\, 718 Congress Ave #100\, Austin\, TX\, 78701\, United States
CATEGORIES:live music
ATTACH;FMTTYPE=image/jpeg:https://neshamasings.com/wp-content/uploads/2018/11/ATX-Juke-Joint-Revue-2.jpg
END:VEVENT
BEGIN:VEVENT
DTSTART;TZID=America/Chicago:20181011T213000
DTEND;TZID=America/Chicago:20181012T003000
DTSTAMP:20260423T162849
CREATED:20181108T221706Z
LAST-MODIFIED:20190103T210131Z
UID:199-1539293400-1539304200@neshamasings.com
SUMMARY:Neshama at Half Step
DESCRIPTION:Come vibe and let’s exchange energy! No cover\, amazing drinks\, beautiful people\, and Neshama & her crew.
URL:https://neshamasings.com/energyexchanges/neshama-at-half-step-oct11/
LOCATION:Half Step\, 75 1/2 Rainey St\, Austin\, TX\, 78701\, United States
CATEGORIES:live music
END:VEVENT
BEGIN:VEVENT
DTSTART;TZID=America/Chicago:20180915T190000
DTEND;TZID=America/Chicago:20180915T210000
DTSTAMP:20260423T162849
CREATED:20181108T220846Z
LAST-MODIFIED:20190103T205247Z
UID:196-1537038000-1537045200@neshamasings.com
SUMMARY:Merlot Music Live DVD Recording
DESCRIPTION:Ronnie Coleman\, Jr. and Merlot Music will be creating Houston history by recording the city’s first live jazz DVD at the MATCH Houston Theatre! This is the first live DVD recording for Houston-based music artist Ronnie Coleman\, Jr and his band Merlot Music. The show will feature an all-star cast of incredible singers and musicians from the Houston area\, including Neshama (who now resides in Austin\, TX). The show will feature live versions of works previously released from Ronnie’s catalog such as “Chapter One: No Turning Back”\, “Brighter Day” and the international hit song “Bayou City Funk”. The up-close and personal energetically charged show is truly an event you certainly don’t want to miss. GET YOUR TICKETS NOW BEFORE THEY’RE GONE!
URL:https://neshamasings.com/energyexchanges/merlot-live-dvd/
LOCATION:MATCH Houston Theatre\, 3400 Main St\, Houston\, TX\, 77002\, United States
CATEGORIES:live music
END:VEVENT
BEGIN:VEVENT
DTSTART;TZID=America/Chicago:20180913T210000
DTEND;TZID=America/Chicago:20180914T010000
DTSTAMP:20260423T162849
CREATED:20181108T220042Z
LAST-MODIFIED:20190103T203722Z
UID:193-1536872400-1536886800@neshamasings.com
SUMMARY:A Tribute to Aretha Franklin
DESCRIPTION:A tribute in honor of the Queen of Soul–Aretha Franklin with Sarah Ulloa and Neshama! Also featuring Victoria Ramirez\, Domi Elle\, Allysa Grace and others. Show backed by live band The Pocket. Free!
URL:https://neshamasings.com/energyexchanges/a-tribute-to-aretha-franklin/
LOCATION:Stay Gold\, 1910 E Cesar Chavez St\, Austin\, TX\, 78702\, United States
CATEGORIES:live music
END:VEVENT
BEGIN:VEVENT
DTSTART;TZID=America/Chicago:20180906T200000
DTEND;TZID=America/Chicago:20180906T220000
DTSTAMP:20260423T162849
CREATED:20181108T215328Z
LAST-MODIFIED:20190103T202631Z
UID:188-1536264000-1536271200@neshamasings.com
SUMMARY:Funk Soul & Jazz with Neshama and Fabrik
DESCRIPTION:Enjoy an evening of funk\, soul\, and jazz at Kenny Dorham’s Backyard! Family-friendly and pet-friendly venue with food trailers on site. BYOB. Only $5 at the gate\, children 12 and under free. \n8:00 – 8:45 – Neshama \n9:00 – 10:00 – Fabrik
URL:https://neshamasings.com/energyexchanges/neshama-and-fabrik/
LOCATION:Kenny Dorham’s Backyard\, 1106 E 11th St\, Austin\, TX\, 78702\, United States
CATEGORIES:live music
END:VEVENT
END:VCALENDAR