BEGIN:VCALENDAR
VERSION:2.0
PRODID:-//Neshama - ECPv6.15.20//NONSGML v1.0//EN
CALSCALE:GREGORIAN
METHOD:PUBLISH
X-WR-CALNAME:Neshama
X-ORIGINAL-URL:https://neshamasings.com
X-WR-CALDESC:Events for Neshama
REFRESH-INTERVAL;VALUE=DURATION:PT1H
X-Robots-Tag:noindex
X-PUBLISHED-TTL:PT1H
BEGIN:VTIMEZONE
TZID:America/Chicago
BEGIN:DAYLIGHT
TZOFFSETFROM:-0600
TZOFFSETTO:-0500
TZNAME:CDT
DTSTART:20190310T080000
END:DAYLIGHT
BEGIN:STANDARD
TZOFFSETFROM:-0500
TZOFFSETTO:-0600
TZNAME:CST
DTSTART:20191103T070000
END:STANDARD
BEGIN:DAYLIGHT
TZOFFSETFROM:-0600
TZOFFSETTO:-0500
TZNAME:CDT
DTSTART:20200308T080000
END:DAYLIGHT
BEGIN:STANDARD
TZOFFSETFROM:-0500
TZOFFSETTO:-0600
TZNAME:CST
DTSTART:20201101T070000
END:STANDARD
BEGIN:DAYLIGHT
TZOFFSETFROM:-0600
TZOFFSETTO:-0500
TZNAME:CDT
DTSTART:20210314T080000
END:DAYLIGHT
BEGIN:STANDARD
TZOFFSETFROM:-0500
TZOFFSETTO:-0600
TZNAME:CST
DTSTART:20211107T070000
END:STANDARD
END:VTIMEZONE
BEGIN:VEVENT
DTSTART;VALUE=DATE:20200620
DTEND;VALUE=DATE:20200621
DTSTAMP:20260423T162833
CREATED:20200617T161525Z
LAST-MODIFIED:20200617T204220Z
UID:3052-1592611200-1592697599@neshamasings.com
SUMMARY:My Birthday & Single Release!!
DESCRIPTION:On this day\, June 20th\, I’ll be celebrating another trip around the sun–my New Year (birthday). Shout out to all the dope Geminis that grace the planet. As I’ve done for the past few years\, I’m sharing that creation energy that birthdays tend to bring with my supporters as my gift to them. Usually\, it’s an energy exchange in the form of a “performance” or “show” for an audience at a venue–public or private. However\, this time is a little bit different. Two years ago around this time\, a crew of musical assassins–Chris “CG” Gadson\, Jon Keyz\, Charles Hunter\, Jimmy Blazer\, Stephen Greer\, and my King\, Sha Alheem–aided me in producing and recording a project I’m extremely proud of. In a private location with an audience of less than 20\, we made magic. To celebrate the anniversary of my birth\, we’ll be releasing the lead single from that project on all major digital platforms\, and I’m uber excited!! Click here to see the lyric video on YouTube on JUNE 20TH! \nOver the last couple of years\, I hesitated to release the EP/album (I haven’t decided what to call it yet\, lol) because I feared the masses may not appreciate it as much as my local supporters. Now\, I’ve stopped worrying if it’s perfect enough\, if it’ll be accepted\, if people will receive it in the same spirit that I created it. My job was to simply create it\, to bring it to fruition\, to stop allowing fear to rob me of my opportunities and my voice. I’m honored to have found my tribe\, my crew in ATX willing to to blend their magic with mine to make this happen. Undying love and gratitude to my King–Sha Alheem for the role he plays every single day in helping me make my dreams a reality (not just in music). \nThis is only the beginning; more to come! Don’t forget to subscribe to my newsletter and my YouTube channel. \n–Neshama
URL:https://neshamasings.com/energyexchanges/my-birthday-single-release/
CATEGORIES:music releases
ATTACH;FMTTYPE=image/jpeg:https://neshamasings.com/wp-content/uploads/2020/06/Copy-of-DSCF1808-scaled.jpg
END:VEVENT
END:VCALENDAR